BEGIN:VCALENDAR
VERSION:2.0
PRODID:-//Space Coast Sled Hockey - ECPv5.14.1//NONSGML v1.0//EN
CALSCALE:GREGORIAN
METHOD:PUBLISH
X-WR-CALNAME:Space Coast Sled Hockey
X-ORIGINAL-URL:https://spacecoastsledhockey.com
X-WR-CALDESC:Events for Space Coast Sled Hockey
BEGIN:VTIMEZONE
TZID:UTC
BEGIN:STANDARD
TZOFFSETFROM:+0000
TZOFFSETTO:+0000
TZNAME:UTC
DTSTART:20220101T000000
END:STANDARD
END:VTIMEZONE
BEGIN:VEVENT
DTSTART;VALUE=DATE:20220626
DTEND;VALUE=DATE:20220627
DTSTAMP:20260420T113244
CREATED:20210725T155237Z
LAST-MODIFIED:20210725T155237Z
UID:1745-1656201600-1656287999@spacecoastsledhockey.com
SUMMARY:3v3 Tournament Fundraiser
DESCRIPTION:Annual 3v3 Tournament Fundraiser at Space Coast Iceplex in Rockledge\, FL
URL:https://spacecoastsledhockey.com/event/3v3-tournament-fundraiser/
LOCATION:Space Coast Iceplex\, 720 Roy Wall Blvd\, Rockledge\, FL\, 32955\, United States
CATEGORIES:Fundraiser
END:VEVENT
END:VCALENDAR