BEGIN:VCALENDAR
VERSION:2.0
PRODID:-//Space Coast Sled Hockey - ECPv5.14.1//NONSGML v1.0//EN
CALSCALE:GREGORIAN
METHOD:PUBLISH
X-WR-CALNAME:Space Coast Sled Hockey
X-ORIGINAL-URL:https://spacecoastsledhockey.com
X-WR-CALDESC:Events for Space Coast Sled Hockey
BEGIN:VTIMEZONE
TZID:UTC
BEGIN:STANDARD
TZOFFSETFROM:+0000
TZOFFSETTO:+0000
TZNAME:UTC
DTSTART:20230101T000000
END:STANDARD
END:VTIMEZONE
BEGIN:VEVENT
DTSTART;TZID=UTC:20230625T091500
DTEND;TZID=UTC:20230625T203000
DTSTAMP:20260420T082019
CREATED:20230623T165132Z
LAST-MODIFIED:20230623T165212Z
UID:2185-1687684500-1687725000@spacecoastsledhockey.com
SUMMARY:3v3 Summer Sled Challenge & Raffle
DESCRIPTION:June 25th at Space Coast Iceplex \n9:15AM-12:45PM and 3:15-6:45PM \nFor more details visit: \n3v3 Summer Sled Challenge
URL:https://spacecoastsledhockey.com/event/3v3-summer-sled-challenge-raffle/
LOCATION:Space Coast Iceplex\, 720 Roy Wall Blvd\, Rockledge\, FL\, 32955\, United States
CATEGORIES:Fundraiser
END:VEVENT
END:VCALENDAR